BEGIN:VCALENDAR
VERSION:2.0
PRODID:-//Rhodes.gr - ECPv6.10.0//NONSGML v1.0//EN
CALSCALE:GREGORIAN
METHOD:PUBLISH
X-WR-CALNAME:Rhodes.gr
X-ORIGINAL-URL:https://www.rhodes.gr
X-WR-CALDESC:Events for Rhodes.gr
REFRESH-INTERVAL;VALUE=DURATION:PT1H
X-Robots-Tag:noindex
X-PUBLISHED-TTL:PT1H
BEGIN:VTIMEZONE
TZID:Europe/Athens
BEGIN:DAYLIGHT
TZOFFSETFROM:+0200
TZOFFSETTO:+0300
TZNAME:EEST
DTSTART:20250330T010000
END:DAYLIGHT
BEGIN:STANDARD
TZOFFSETFROM:+0300
TZOFFSETTO:+0200
TZNAME:EET
DTSTART:20251026T010000
END:STANDARD
END:VTIMEZONE
BEGIN:VEVENT
DTSTART;TZID=Europe/Athens:20250310T180000
DTEND;TZID=Europe/Athens:20250310T210000
DTSTAMP:20260423T210450
CREATED:20250224T104601Z
LAST-MODIFIED:20250224T134813Z
UID:10000101-1741629600-1741640400@www.rhodes.gr
SUMMARY:Η Ζαχαρωτούλα που πικροποιήθηκε
DESCRIPTION:[vc_row][vc_column][vc_column_text css=””]Μετά από τις παραστάσεις για τα σχολεία της Ρόδου\, και τη θερμή υποδοχή που του επιφύλαξαν μαθητές και εκπαιδευτικοί το αγαπημένο παραμύθι της συγγραφέως Ραφαέλικας Γεωργαλλή\, «Η Ζαχαρωτούλα που πικροποιήθηκε» έρχεται με δύο μοναδικές παραστάσεις για όλες και όλους. Η υπέροχη θεατρική διασκευή σε σενάριο της συγγραφέως και σκηνοθεσία της Σουσάνας Καρδούλια\, παρουσιάζεται από το Σπίτι της Ευρώπης στη Ρόδο\, με αφορμή την Ημέρα της Γυναίκας\, τη Δευτέρα 10 Μαρτίου\, με δύο παραστάσεις στις 18:00 και στις 20:00 αντίστοιχα.\nΣτο χωριό των Γλυκών\, η Ζαχαρωτούλα\, το ζαχαρωτό\, ερωτεύεται και παντρεύεται τον Λάμπρο\, ένα γυαλιστερό γλειφιτζούρι λεμόνι\, για να ζήσουν μαζί μια γλυκιά ζωή.Τα πικρά λόγια του Λάμπρου και η άσχημη συμπεριφορά του\, πληγώνουν τη Ζαχαρωτούλα\, η οποία λιώνει σιγά σιγά.\nΤι είναι η πικροποίηση; Έχει δικαίωμα ένα γλειφιτζούρι λεμόνι\, επειδή θεωρεί ότι είναι πιο δυνατό\, να φέρεται άσχημα σε ένα ζαχαρωτό;\nΌλες οι Ζαχαρωτούλες αυτού του κόσμου αξίζουν γλυκά λόγια.\nΝαι\, στην Αγάπη! Όχι\, στην πικροποίηση!\nΜία τρυφερή παράσταση που παρουσιάζει τις ορατές και τις αόρατες μορφές βίας\, προβάλλοντας τι είναι και τι ΔΕΝ είναι αγάπη.\nΕιδικές παραστάσεις για τα σχολεία στις 17\, 18\, 19\, 21\, 24\, 25\, 26\, 27\, 28 Φεβρουαρίου 2025\, 09:00-10:00 & 11:00-12:00. \nΔευτέρα\, 10 Μαρτίου 2025\nΔύο παράστασεις 18:00-19:00 & 20:00-21:00 στο Δημοτικό Θέατρο Ρόδου\nΠροπώληση: 10€ | Γενική Είσοδος: 12€ | Μειωμένο*: 10€ | Παιδικό**: 7€\n* Μειωμένο για φοιτητές\, ανέργους\, πολύτεκνους και άλλες ειδικές ομάδες\, με επίδειξη ταυτότητας στο ταμείο του θεάτρου.\n** Για παιδιά μέχρι 12 χρονών. \nΠροπώληση: 28/02 – 08/03 στο βιβλιοπωλείο «Το Δέντρο».\nOnline Κράτηση Εισιτηρίων (πληρωμή στο ταμείο του θεάτρου με μετρητά ή κάρτα) αποκλειστικά στο rhodes.com.gr. Για τις ηλεκτρονικές κρατήσεις ισχύουν οι τιμές προπώλησης. Εξαργύρωση του κουπονιού μέχρι μισή ώρα πριν την έναρξη της παράστασης στο ταμείο του θεάτρου. \nΣυντελεστές\nΠρωτότυπο κείμενο / Διασκευή: Ραφαέλικα Γεωργαλλή\nΣκηνοθεσία: Σουσάνα Καρδούλια\nΧορογραφίες: Σέβη Αργυρού\nΣκηνικά: Σάββας Συρόπουλος\nΚοστούμια: Μαρία Χατζηγιακουμή\nΜουσική Επιμέλεια: Έβελυν Χώχου\nΠαίζουν: Μαρία Πέππα\, Αγγελική Χρυσανθάκη\, Πελαγία Γιαλλουράκη\, Νικόλαος-Ραφαήλ Κάβουρας\nΧορεύουν: Μαρία Τριανταφύλλου\, Σοφία Σαραντοπούλου\, Χριστίνα Βασιλάκου\nΕκτέλεση παραγωγής: mgk.advertising – Dorieus Creative Company \nΜε την υποστήριξη του Δήμου Ρόδου – Διεύθυνη ΔΟΠΑΡ και της Σχολής Χορού «Έλλη Παρασκευά»[/vc_column_text][/vc_column][/vc_row]
URL:https://www.rhodes.gr/event/i-zacharotoula-pou-pikropoiithike/
LOCATION:ΔΗΜΟΤΙΚΟ ΘΕΑΤΡΟ ΡΟΔΟΥ
CATEGORIES:Εκδηλώσεις,Θεατρικές παραστάσεις
ATTACH;FMTTYPE=image/jpeg:https://www.rhodes.gr/wp-content/uploads/2025/02/zacharotoula_posterA3_event20240310_v2-1068x1511-1.jpg
END:VEVENT
END:VCALENDAR